BEGIN:VCALENDAR
VERSION:2.0
PRODID:-//Armurerie Vauban - ECPv6.5.0.1//NONSGML v1.0//EN
CALSCALE:GREGORIAN
METHOD:PUBLISH
X-ORIGINAL-URL:https://armurerie-vauban.com
X-WR-CALDESC:évènements pour Armurerie Vauban
REFRESH-INTERVAL;VALUE=DURATION:PT1H
X-Robots-Tag:noindex
X-PUBLISHED-TTL:PT1H
BEGIN:VTIMEZONE
TZID:Europe/Zurich
BEGIN:DAYLIGHT
TZOFFSETFROM:+0100
TZOFFSETTO:+0200
TZNAME:CEST
DTSTART:20230326T010000
END:DAYLIGHT
BEGIN:STANDARD
TZOFFSETFROM:+0200
TZOFFSETTO:+0100
TZNAME:CET
DTSTART:20231029T010000
END:STANDARD
END:VTIMEZONE
BEGIN:VEVENT
DTSTART;TZID=Europe/Zurich:20230701T143000
DTEND;TZID=Europe/Zurich:20230701T180000
DTSTAMP:20260422T174303
CREATED:20230629T065156Z
LAST-MODIFIED:20230629T065314Z
UID:9204-1688221800-1688234400@armurerie-vauban.com
SUMMARY:Ball-trap samedi 1er juillet
DESCRIPTION:Samedi 1er juillet\, Ball-trap à Magny\, avec Patrice !\n \nOuvert aux licenciés FFTir\, licenciés FFBT\, chasseurs titulaires d’un permis en cours de validation. \nComme d’habitude\, les séries et cartouches se règlent sur place directement au pas de tir.
URL:https://armurerie-vauban.com/evenement/ball-trap-samedi-1er-juillet/
LOCATION:Armurerie Vauban\, Chemin de Rey - ZA Bonjuan (Chaume de Bonjuan)\, Magny\, 89200\, France
CATEGORIES:Ball-trap
ORGANIZER;CN="Cercle de Tir de Magny":MAILTO:armurerie.vauban@gmail.com
END:VEVENT
BEGIN:VEVENT
DTSTART;VALUE=DATE:20230703
DTEND;VALUE=DATE:20230708
DTSTAMP:20260422T174303
CREATED:20230628T074657Z
LAST-MODIFIED:20230628T074657Z
UID:9173-1688342400-1688774399@armurerie-vauban.com
SUMMARY:Stands 300m et pompe accessibles uniquement en fin de journée
DESCRIPTION:Les stands de tir “longue distance” et « pompe » seront utilisés par une administration cette semaine\, et seront donc inaccessible pour les tireurs du club : \n\nlundi 3 juillet fermé de 9 heures à 16 heures 30 – tir possible de 16 heures 30 à 19 heures\nmardi 4 juillet fermé de 9 heures à 16 heures 30 – tir possible de 16 heures 30 à 19 heures\nmercredi 5 juillet fermé de 9 heures à 16 heures 30 – tir possible de 16 heures 30 à 19 heures\njeudi 6 juillet fermé de 9 heures à 16 heures 30 – tir possible de 16 heures 30 à 19 heures\nvendredi 7 juillet fermé de 9 heures à midi – tir possible de 14 heures 30 à 19 heures\n\nNous vous prions d’accepter nos excuses pour ce désagrément.
URL:https://armurerie-vauban.com/evenement/stands-300m-et-pompe-accessibles-uniquement-en-fin-de-journee/
LOCATION:Pas de tir 300m\, Chemin de Rey - ZA Bonjuan (Chaume de Bonjuan)\, Magny\, 89200\, France
CATEGORIES:Accès aux stands
ORGANIZER;CN="Cercle de Tir de Magny":MAILTO:armurerie.vauban@gmail.com
END:VEVENT
END:VCALENDAR